BEGIN:VCALENDAR
VERSION:2.0
PRODID:https://github.com/derhansen/sf_event_mgt
METHOD:PUBLISH
BEGIN:VEVENT
UID:4676-113299@www.leuphana.de
CLASS: PUBLIC
SUMMARY:UniTalk - Campus - 17.06.2026
DESCRIPTION:Beim UniTalk bringen wir Ihnen das Bachelorstudium am Leuphana 
 College näher. Sie lernen unser Studienmodell kennen und erfahren mehr über
  die Bewerbung und Zulassung am Leuphana College. Gleichzeitig erhalten Sie
  Hinweise zur Recherche und Aspekte der Studienwahl, bekommen wertvolle Tip
 ps für die Orientierungs- und Entscheidungsphase und haben die Möglichkeit,
  Fragen zu stellen.
LOCATION:Zentraler Campus
DTSTAMP:20260129T180418Z
DTSTART:20260617T160000Z
DTEND:20260617T180000Z
END:VEVENT
END:VCALENDAR
