BEGIN:VCALENDAR
VERSION:2.0
PRODID:https://github.com/derhansen/sf_event_mgt
METHOD:PUBLISH
BEGIN:VEVENT
UID:2781-113301@www.leuphana.de
CLASS: PUBLIC
SUMMARY:42 Minuten Studifutter - Welcher Beruf passt eigentlich zu mir?
DESCRIPTION:Wo kann es nach dem Studium weitergehen? Welches Praktikum mach
 t für meinen weiteren Weg Sinn? Der Career Service bietet viele Angebote fü
 r Studierende zur beruflichen Orientierung und wird in dieser Veranstaltung
  aufzeigen, wie man sich der Frage nach dem passenden Beruf und möglichen T
 ätigkeitsfeldern bereits im Studium u. a. auch durch den Einsatz digitaler 
 Tools nähern kann.  
LOCATION:Zentraler Campus
DTSTAMP:20230517T083352Z
DTSTART:20230531T120000Z
DTEND:20230531T124200Z
END:VEVENT
END:VCALENDAR
