BEGIN:VCALENDAR
VERSION:2.0
PRODID:https://github.com/derhansen/sf_event_mgt
METHOD:PUBLISH
BEGIN:VEVENT
UID:3426-113314@www.leuphana.de
CLASS: PUBLIC
SUMMARY:Doctoral Track: Pursuing a doctorate in the Master's programme
DESCRIPTION:With the Doctoral Track, you can combine your Master's and doct
 oral studies and thus realise your doctoral project during your Master's de
 gree. The Graduate School will introduce you to the programme, the admissio
 n requirements and the entry options. You will also have the opportunity to
  talk to a current student from the Doctoral Track.\n\nThe event will be he
 ld in English.\n\nWe will send you the admission information one day before
  the event.
DTSTAMP:20260119T181549Z
DTSTART:20260122T150000Z
DTEND:20260122T160000Z
END:VEVENT
END:VCALENDAR
