BEGIN:VCALENDAR
VERSION:2.0
PRODID:https://github.com/derhansen/sf_event_mgt
METHOD:PUBLISH
BEGIN:VEVENT
UID:4914-113314@www.leuphana.de
CLASS: PUBLIC
SUMMARY:Let's talk Karriere: How to Write a Non-Academic CV
DESCRIPTION:The “Let’s Talk Career” series invites alumni with doctoral deg
 rees to discuss entering the workforce outside of academia and the pivotal 
 moments in their career journeys. To offer a broader range of opportunities
  and perspectives, we regularly collaborate with other universities: “Let’s
  Talk Career Meets…” is a joint initiative of the graduate schools at the u
 niversities of Clausthal, Jena, Leipzig, Magdeburg, Münster, and Lüneburg. 
 The Coffee Converation Special by University Leipzig focuses on how to writ
 e non-academic CV's:\n\nThis interactive talk offers advice on how to write
  a persuasive CV for non-academic job applications and also allows you to r
 aise your relevant questions and concerns.\n\nAspects covered include:\n\nR
 elevant differences between applications in and outside academiaHow to read
  a job advertisement, and how to customize your application dossierHow to o
 rganize the writing processHow to design and structure the CVHow to present
  competencies and fit in the CV\n\nThe login-link to this online event will
  be provided to registered participants a few days prior to the event.\n\nC
 ontact person: Dr. Nicole Koburger (nicole.koburger@zv.uni-leipzig.de)\n\nR
 egistration via this form [you will leave the leuphana website]
LOCATION:Online
DTSTAMP:20260415T092715Z
DTSTART:20260601T100000Z
DTEND:20260601T113000Z
END:VEVENT
END:VCALENDAR
