BEGIN:VCALENDAR
VERSION:2.0
PRODID:https://github.com/derhansen/sf_event_mgt
METHOD:PUBLISH
BEGIN:VEVENT
UID:4414-123474@www.leuphana.de
CLASS: PUBLIC
SUMMARY:Allocation of Campus Cards
DESCRIPTION:In this slot, you have the option of purchasing a Campus Card f
 or €10. Please bring the €10 deposit in exact change, as we will not be abl
 e to issue the card to you otherwise. You will receive your deposit back at
  the end of your studies. Activating the library function costs €5 and can 
 be done at a later date. The card must be topped up before it can be used f
 or the first time in the canteen. This can be done either with cash or by c
 ard at the machines in the canteen or in the library foyer.\n\n\n\n
DTSTAMP:20250915T142619Z
DTSTART:20251009T070000Z
DTEND:20251009T080000Z
END:VEVENT
END:VCALENDAR
