BEGIN:VCALENDAR
VERSION:2.0
PRODID:https://github.com/derhansen/sf_event_mgt
METHOD:PUBLISH
BEGIN:VEVENT
UID:4792-122180@www.leuphana.de
CLASS: PUBLIC
SUMMARY:Dynamic Visuals with TouchDesigner for Beginners
DESCRIPTION:In this beginner-friendly workshop, you’ll transform a simple v
 ideo into a lively particle system using TouchDesigner. Learn the basics of
  particle control and real-time visuals — no prior experience needed. \n\nI
 t would be good if you could bring a laptop and install the software in adv
 ance. Download Touch Designer: https://derivative.ca/download
DTSTAMP:20260309T105600Z
DTSTART:20260427T140000Z
DTEND:20260427T160000Z
END:VEVENT
END:VCALENDAR
