BEGIN:VCALENDAR
VERSION:2.0
PRODID:https://github.com/derhansen/sf_event_mgt
METHOD:PUBLISH
BEGIN:VEVENT
UID:4726-122180@www.leuphana.de
CLASS: PUBLIC
SUMMARY:Zotero: Don't get lost in the details - a short introduction (Zoom)
DESCRIPTION:Collecting and organizing references, creating literature lists
  or inserting references and bibliographies into a paper are all part of ac
 ademic writing. Reference management programs are helpful tools that can ma
 ke these tasks much easier. Zotero is a reference management program that g
 rew out of the open-source movement. The desktop version runs on Windows, M
 ac, and Linux computers.\n\nIn this short introduction, an experienced coll
 eague will demonstrate how to save search results from catalogs and databas
 es directly into Zotero, how to attach and annotate PDFs, and how to transf
 er the collected references into your paper.\n\nFor the demonstration, the 
 following systems/programs will be used:\n\nWindows 10 or higherZotero 8 fo
 r WindowsFirefox or ChromeMS Word for Windows or LibreOffice\n\nEveryone wh
 o is interested is welcome to attend. Please register for the workshop. It 
 will only take place if there are a minimum number of registrations. Zoom l
 og-in details will be provided on the day of the event.\n\nIf you would lik
 e to actively follow the demonstration, please install the program before t
 he event. Installation instructions can be found below under “Documents” or
  on the Zotero website: https://www.zotero.org/support/installation. Unfort
 unately, there will be no time to troubleshoot installation problems during
  the training itself.No prior knowledge is necessary; the event is specific
 ally aimed at beginners.
DTSTAMP:20260213T125731Z
DTSTART:20260429T120000Z
DTEND:20260429T130000Z
END:VEVENT
END:VCALENDAR
