BEGIN:VCALENDAR
VERSION:2.0
PRODID:https://github.com/derhansen/sf_event_mgt
METHOD:PUBLISH
BEGIN:VEVENT
UID:4856-113316@www.leuphana.de
CLASS: PUBLIC
SUMMARY:Die Antragstellung beim Ethikbeirat der Leuphana - Prozesse, Formul
 are, FAQs
DESCRIPTION:Online-Veranstaltung10.06.2026, 14:00-15:30 Uhr\n\nIm Rahmen de
 r geplanten Veranstaltung werden die zentralen Schritte des Antragsprozesse
 s beim Ethikbeirat vorgestellt – von der Einreichung eines Antrags über die
  erforderlichen Unterlagen bis hin zum Votum des Ethikbeirats. Zudem erhalt
 en die Teilnehmenden einen Überblick über die verfügbaren Formulare und Han
 dreichungen sowie Hinweise zur erfolgreichen Antragstellung.\n\nDie geplant
 e Veranstaltung richtet sich insbesondere an Promovierende, Postdocs sowie 
 Professor*innen, die eine ethische Begutachtung ihres Forschungsvorhabens d
 urch den Ethikbeirat planen oder sich grundsätzlich über das Verfahren info
 rmieren möchten.\n\nDie Veranstaltung wird von der Geschäftsstelle des Ethi
 kbeirats durchgeführt und bietet neben einem Input-Teil auch Gelegenheit fü
 r Fragen und Austausch.\n\nInhalte der Veranstaltung:\n\nAufgaben und Zustä
 ndigkeit des EthikbeiratsWer kann Anträge stellen?Ablauf des Begutachtungsv
 erfahrensAnforderungen an die AntragstellungVorstellung der Antragsformular
 e und begleitenden MaterialienArten von Voten des EthikbeiratsFragerunde\n\
 nDie Veranstaltungssprache ist deutsch, bei Bedarf ist auch Englisch möglic
 h.\n\nReferentin: Dr. Anne-Kathrin Gitter ist seit Februar 2025 Teil des Te
 ams der Geschäftsstelle des Ethikbeirats und außerdem EU-Forschungsreferent
 in im Forschungsservice der Leuphana.
LOCATION:Online
DTSTAMP:20260422T060625Z
DTSTART:20260610T120000Z
DTEND:20260610T133000Z
END:VEVENT
END:VCALENDAR
