BEGIN:VCALENDAR
VERSION:2.0
PRODID:https://github.com/derhansen/sf_event_mgt
METHOD:PUBLISH
BEGIN:VEVENT
UID:3426-113314@www.leuphana.de
CLASS: PUBLIC
SUMMARY:Doctoral Track: Im Master promovieren
DESCRIPTION:Mit dem Doctoral Track können Sie Ihre Master- und Promotionsze
 it verzahnt gestalten und so bereits im Master Ihr Promotionsvorhaben verwi
 rklichen. Die Graduate School stellt Ihnen das Programm, die Zugangsvorauss
 etzungen und die Einstiegsmöglichkeiten vor. Darüber hinaus haben Sie die M
 öglichkeit, mit einer aktuellen Studentin aus dem Doctoral Track zu spreche
 n.\n\nDie Veranstaltung findet auf Englisch statt.\n\nDie Zugangsinformatio
 nen senden wir Ihnen einen Tag vor der Veranstaltung zu. 
DTSTAMP:20260119T181549Z
DTSTART:20260122T150000Z
DTEND:20260122T160000Z
END:VEVENT
END:VCALENDAR
