BEGIN:VCALENDAR
VERSION:2.0
PRODID:https://github.com/derhansen/sf_event_mgt
METHOD:PUBLISH
BEGIN:VEVENT
UID:3466-113314@www.leuphana.de
CLASS: PUBLIC
SUMMARY:Erfolgreich Bewerben
DESCRIPTION:Erfolgreich Bewerben für den außerakademischen Karriereweg\n\nD
 ie schriftliche und mündliche Selbstpräsentation ist für einen erfüllenden 
 beruflichen Werdegang heutzutage unerlässlich. Es genügt nicht, gut zu sein
 ; es ist vielmehr wichtig, dass die anderen es auch erfahren.\n\nDie schrif
 tliche Bewerbung; Bewerbungsunterlagen (Anschreiben und Lebenslauf)Welche B
 ewerbungsunterlagen passen zur Branche / zur Stelle und welche Bewerbungsun
 terlagen passen zu Ihnen? Gestalten Sie Ihre Bewerbungsunterlagen als Ihre 
 Visitenkarte!\n\nInhalte\n\nDas Bewerbungsverfahren; Unterschiede akademisc
 h und außerakademischDas professionelle Profil, persönliche Interesse und V
 ereinbarkeit Familie und KarriereDas Anschreiben und Lebenslauf, Ihre Visit
 ekarteAnpassung der Dokumente an Branchen, Stellenausschreibungen sowie an 
 die Unternehmenskultur\n\nDie mündliche Bewerbung; Bewerbungsgespräche führ
 enWie führen Sie ein Vorstellungsgespräch auf Augenhöhe? Auf welche Fragen 
 sollten Sie sich unbedingt vorbereiten? Und welche Ihrer eigenen Fragen sol
 lten Sie sich während des Gesprächs beantworten lassen?\n\nInhalte\n\nStruk
 tur und Ziele von VorstellungsgesprächenTypische Fragen in Vorstellungsgesp
 rächen für den nichtakademischen ArbeitsmarktSelbstvermarktung; Selbsteinsc
 hätzung und Fremdwahrnehmung
LOCATION:Online
DTSTAMP:20260414T113945Z
DTSTART:20260417T070000Z
DTEND:20260424T110000Z
END:VEVENT
END:VCALENDAR
