BEGIN:VCALENDAR
VERSION:2.0
PRODID:https://github.com/derhansen/sf_event_mgt
METHOD:PUBLISH
BEGIN:VEVENT
UID:4730-113314@www.leuphana.de
CLASS: PUBLIC
SUMMARY:Fit für die Disputation (DE)
DESCRIPTION:Die Dissertation ist (so gut wie) eingereicht? Dann steht mit d
 er Disputation der letzte große Meilenstein der Promotion bevor. Dieser Wor
 kshop unterstützt Sie bei der Vorbereitung und gibt Ihnen Rückenwind für ei
 n sicheres und überzeugendes Auftreten in Ihrer mündlichen Verteidigung. \n
 \nZum Einstieg werden Ablauf und Bedeutung einer Disputation erläutert und 
 typische Fragen gesammelt. Anschließend erarbeiten wir verschiedene Strateg
 ien für eine überzeugende argumentative sowie rhetorische Positionierung wä
 hrend der Disputation. Im zweiten Teil steht die praktische Übung im Mittel
 punkt: Alle Teilnehmenden simulieren ihre Disputation in diesem kleinen und
  geschützten Rahmen und erhalten detailliertes Feedback für einen souveräne
 n Auftritt am großen Tag.\n\n\n\nZiele:\n\nSie haben einen Überblick über A
 blauf, Bedeutung und Funktion einer Disputation.Sie kennen typische Fragen 
 der Prüfungskommission.Sie können auf kritische bis provozierende Fragen so
 uverän reagieren.Sie haben Vorbereitungswerkzeuge für erwartbare Fragen zu 
 Ihrem Thema.Sie haben einen Überblick über Ihre Stärken und Entwicklungsmög
 lichkeiten im Vortrag und insbesondere in der Fragerunde.\n\n\n\nMethoden:\
 n\nEinzelarbeit, Gruppenarbeit, Plenumsarbeit, Gesprächssimulation, Feedbac
 k, schriftliche und mündliche Übungssequenzen, Vortrag, Unterrichtsgespräch
 .\n\n\n\nWichtige Hinweise zur Anmeldung:\n\nBitte melden Sie sich nur an, 
 wenn Sie an beiden Workshop-Tagen vollständig teilnehmen können.Ihre Anmeld
 ung ist verbindlich. Eine Abmeldung ist bis zum 29.04.2026 möglich. Bei kur
 zfristigem Rücktritt oder Nichterscheinen wird eine Ausfallgebühr von 30€ f
 ällig (in begründeten Einzelfällen kann einem Erlass zugestimmt werden, hie
 rüber entscheidet die Graduate School).\n\n\n\n
LOCATION:Zentraler Campus
DTSTAMP:20260409T140257Z
DTSTART:20260507T070000Z
DTEND:20260508T140000Z
END:VEVENT
END:VCALENDAR
