BEGIN:VCALENDAR
VERSION:2.0
PRODID:https://github.com/derhansen/sf_event_mgt
METHOD:PUBLISH
BEGIN:VEVENT
UID:3606-113314@www.leuphana.de
CLASS: PUBLIC
SUMMARY:Getting started with a doctorate: Everything you need to know
DESCRIPTION:We are happy that you are interested in doing a doctorate at Le
 uphana. Good choice!\n\nIn this information event, we explain everything ab
 out the doctorate in general and the formalities at Leuphana:\n\nwhat are t
 he admission requirementshow to find a good supervisorwhich options are the
 re for fundingwhich forms of doctorates are possiblehow is the doctorate st
 ructured at Leuphana\n\nIn addition to the extensive information, doctoral 
 candidates will also report on their individual experiences, give you an in
 sight into their everyday work and be available to answer questions. \n\nTh
 e event will take place online.\n\n\n\n\n\n
LOCATION:Online
DTSTAMP:20260421T144011Z
DTSTART:20260702T100000Z
DTEND:20260702T123000Z
END:VEVENT
END:VCALENDAR
