BEGIN:VCALENDAR
VERSION:2.0
PRODID:https://github.com/derhansen/sf_event_mgt
METHOD:PUBLISH
BEGIN:VEVENT
UID:4290-113314@www.leuphana.de
CLASS: PUBLIC
SUMMARY:Homecoming Day
DESCRIPTION:Am 19. Juni feiert die Graduate School den Homecoming Day mit d
 en Absolvent*innen des Zertifikatsprogramms „Leadership in Gesellschaft und
  Wirtschaft“. Dabei steht das Thema der beruflichen Entwicklung nach der Pr
 omotion im Fokus. \n\nAlle promovierten Alumni/Alumnae sowie alle interessi
 erten Promovierenden sind herzlich eingeladen!\n\nProgramm14:00 – 14:15 | B
 egrüßung durch die Vizepräsidentin Prof.in Dr.in Simone Abels14:15 – 15:45 
 | Karrieregespräch 15:45 – 19:00 | Sommerliches Get Together\n\nBeim Karrie
 regespräch berichten drei promovierte Personen von ihren berufsbiografische
 n Erfahrungen, den Entwicklungsmöglichkeiten in unterschiedlichen Positione
 n sowie wichtige Entscheidungen in der beruflichen Biografie. \n\nWir freue
 n uns auf ein inspirierendes Panelgespräch mit spannenden Einblicken in die
  berufsbiografischen Entscheidungen der drei Gäste. \n\nAnschließend bietet
  das Sommerliche Get Together Zeit und Raum für weiteren Austausch und die 
 Gelegenheit zum Feiern und Netzwerken bei Snacks und Getränken in informell
 er Atmosphäre.\n\nDie Veranstaltung wird unterstützt durch den Alumni- und 
 Förderverein der Leuphana sowie die Fachgruppenvertretung Promotion.\n\nFür
  die Gästeliste ist eine Anmeldung erforderlich (siehe weiter unten). Dafür
  müssen Sie ggf. zunächst einen Account anlegen, um sich anschließend für d
 ie Veranstaltung zu registrieren.
LOCATION:Central campus
DTSTAMP:20260316T151135Z
DTSTART:20260619T120000Z
DTEND:20260619T170000Z
END:VEVENT
END:VCALENDAR
