BEGIN:VCALENDAR
VERSION:2.0
PRODID:https://github.com/derhansen/sf_event_mgt
METHOD:PUBLISH
BEGIN:VEVENT
UID:3609-113314@www.leuphana.de
CLASS: PUBLIC
SUMMARY:Information zur Promotionsförderung der Studienstiftung des deutsch
 en Volkes
DESCRIPTION:In Deutschland gibt es 13 Begabtenförderwerke, die Promovierend
 e durch Stipendien und ideelle Förderung unterstützen. Die Veranstaltung ri
 chtet sich an fortgeschrittene Masterstudierende, Promotionsinteressierte u
 nd Personen zu Beginn ihrer Promotion, die sich über die Möglichkeiten der 
 Promotionsförderung informieren möchten.\n\nZu Gast sind Stipendiaten der S
 tudienstiftung. Jan Apel und Lennard Hamelberg geben Einblicke in ihre Förd
 erung durch das größte Förderwerk in Deutschland und erklären die Schritte 
 einer Bewerbung. Im Anschluss gehen sie gern auf Fragen ein. \n\nSeminarrau
 m C 14.103
LOCATION:Zentraler Campus
DTSTAMP:20260120T081818Z
DTSTART:20260120T150000Z
DTEND:20260120T160000Z
END:VEVENT
END:VCALENDAR
