BEGIN:VCALENDAR
VERSION:2.0
PRODID:https://github.com/derhansen/sf_event_mgt
METHOD:PUBLISH
BEGIN:VEVENT
UID:4851-113316@www.leuphana.de
CLASS: PUBLIC
SUMMARY:Interview-Medientraining vor der Kamera für Forschende in Qualifizi
 erung
DESCRIPTION:Im Zeitalter der Massenmedien wird von Wissenschaftlerinnen und
  Wissenschaftlern immer häufiger verlangt, dass sie ihre Erkenntnisse in ve
 rständlichen Sätzen mediengerecht aufarbeiten können. Bei jüngeren Wissensc
 haftlerinnen und Wissenschaftlern entsteht parallel zur fortschreitenden Qu
 alifizierung oft ein Bewusstsein für die Notwendigkeit, überzeugend, klar u
 nd glaubwürdig auftreten zu können: Eine gute Medienkompetenz fördert Aufme
 rksamkeit und Sichtbarkeit und stärkt den Karriereverlauf, sei es für akade
 mische, wissenschaftsnahe oder außerakademische berufliche Ziele.Die Teilne
 hmerinnen und Teilnehmer des Trainings lernen, sich und ihre Forschung in v
 erschiedenen Kommunikationssituationen (vor laufender Kamera, Mikrofon, im 
 persönlichen Gespräch etc.) prägnant und verständlich darzustellen. Sie erf
 ahren insbesondere, was sie im Umgang mit Journalistinnen und Journalisten 
 beachten sollten. Die Teilnehmerinnen und Teilnehmer setzen das Gelernte im
  Rahmen des Trainings in die Praxis um und erhalten Videodateien von ihrer 
 Performance.
DTSTAMP:20260320T161700Z
DTSTART:20261026T080000Z
DTEND:20261026T150000Z
END:VEVENT
END:VCALENDAR
