BEGIN:VCALENDAR
VERSION:2.0
PRODID:https://github.com/derhansen/sf_event_mgt
METHOD:PUBLISH
BEGIN:VEVENT
UID:4914-113314@www.leuphana.de
CLASS: PUBLIC
SUMMARY:Let's talk Karriere: Einen nicht-akademischen Lebenslauf verfassen 
 (EN)
DESCRIPTION:Die Reihe “Let's talk Karriere” lädt promovierte Alumni zum Ges
 präch über den außeruniversitären Berufseinstieg und die Entscheidungsmomen
 te in der Karrierebiographie. Für ein breiteres Angebot und mehr Perspektiv
 en kooperieren wir regelmäßig mit anderen Hochschulen: Let's talk Karriere 
 meets…. ist ein gemeinschaftliches Angebot der Graduierteneinrichtungen der
  Universitäten aus Clausthal, Jena, Leipzig, Magdeburg, Münster und Lünebur
 g. “Coffee Conversation Spezial” der Universität Leipzig wirft einen Blick 
 auf nicht-akademische Lebensläufe:\n\nDieser interaktive Vortrag bietet Tip
 ps zum Verfassen eines überzeugenden Lebenslaufs für Bewerbungen außerhalb 
 des akademischen Bereichs und gibt Ihnen die Möglichkeit, relevante Fragen 
 und Anliegen anzusprechen.Zu den behandelten Themen gehören:\n\nRelevante U
 nterschiede zwischen Bewerbungen innerhalb und außerhalb der WissenschaftWi
 e man eine Stellenanzeige liest und wie man seine Bewerbungsunterlagen indi
 viduell anpasstWie man den Schreibprozess organisiertWie man den Lebenslauf
  gestaltet und strukturiertWie man Kompetenzen darstellt und in den Lebensl
 auf einbindet\n\nDer Login-Link zu dieser Online-Veranstaltung wird den reg
 istrierten Teilnehmern einige Tage vor der Veranstaltung zur Verfügung gest
 ellt. Die Veranstaltung findet auf Englisch statt!\n\nAnsprechpartnerin: Dr
 . Nicole Koburger (nicole.koburger@zv.uni-leipzig.de)\n\nRegistrierung über
  das Anmeldeformular [Sie verlassen die Webseite der Leuphana]
LOCATION:Online
DTSTAMP:20260415T092528Z
DTSTART:20260601T100000Z
DTEND:20260601T113000Z
END:VEVENT
END:VCALENDAR
