BEGIN:VCALENDAR
VERSION:2.0
PRODID:https://github.com/derhansen/sf_event_mgt
METHOD:PUBLISH
BEGIN:VEVENT
UID:4916-113314@www.leuphana.de
CLASS: PUBLIC
SUMMARY:Let's talk Karriere: Von der Wissenschaft in die Industrie (EN)
DESCRIPTION:The “Let’s Talk Career” series invites alumni with doctoral deg
 rees to discuss entering the workforce outside of academia and the pivotal 
 moments in their career journeys. To offer a broader range of opportunities
  and perspectives, we regularly collaborate with other universities: “Let’s
  Talk Career Meets…” is a joint initiative of the graduate schools at the u
 niversities of Clausthal, Jena, Leipzig, Magdeburg, Münster, and Lüneburg. 
 This Alumni Talk at Friedrich Schiller University Jena explores career path
 s in industry:\n\nAre you thinking about leaving academia after completing 
 your PhD or postdoc? You are not alone. The majority of PhD candidates do n
 ot stay in academia for their entire career. In this talk, three STEM alumn
 i, who have successfully transitioned from academia to a career in industry
 , will share their experiences. They will give valuable advice on job hunti
 ng and application processes, career development and working outside of aca
 demia.\n\nPanel:\n\nDr. Ann-Sophie Lehnert did her PhD in chemistry and wor
 ks as a product manager at Analytik Jena.Dr. Sophie Patze did her PhD in ph
 ysical chemistry and works as a project manager at Bayer.Dr. Aman Anand did
  his PhD in photovoltaics and works as project manager at Jenoptik.\n\nCont
 act: Gabi Schopf (gabi.schopf@uni-jena.de)\n\nRegistration via Universität 
 Jena [Sie verlassen die Webseite der Leuphana]
LOCATION:Online
DTSTAMP:20260421T082258Z
DTSTART:20260505T110000Z
DTEND:20260505T120000Z
END:VEVENT
END:VCALENDAR
