BEGIN:VCALENDAR
VERSION:2.0
PRODID:https://github.com/derhansen/sf_event_mgt
METHOD:PUBLISH
BEGIN:VEVENT
UID:4918-113314@www.leuphana.de
CLASS: PUBLIC
SUMMARY:Let's talk Karriere: Wissenschaft trifft Unternehmertum (EN)
DESCRIPTION:Die Reihe “Let's talk Karriere” lädt promovierte Alumni zum Ges
 präch über den außeruniversitären Berufseinstieg und die Entscheidungsmomen
 te in der Karrierebiographie. Für ein breiteres Angebot und mehr Perspektiv
 en kooperieren wir regelmäßig mit anderen Hochschulen: Let's talk Karriere 
 meets…. ist ein gemeinschaftliches Angebot der Graduierteneinrichtungen der
  Universitäten aus Clausthal, Jena, Leipzig, Magdeburg, Münster und Lünebur
 g. In der “Coffee Conversation” der Universität Leipzig treffen Wissenschaf
 t und Unternehmen aufeinander: \n\nWie schafft man den Übergang von der Wis
 senschaft zum Unternehmertum? In diesem „Kaffeegespräch“ sprechen zwei Grün
 der über ihren persönlichen Weg zwischen Forschung, Finanzierung und Start-
 up-Aufbau – authentisch, zugänglich und mit viel Raum für Fragen.\n\nZum Au
 ftakt spricht Dr. Christian Sonnendecker, Mitgründer von ESTER Biotech, übe
 r seine aktuelle Übergangsphase: Noch immer an der Universität Leipzig ange
 stellt und durch EXIST Research Transfer gefördert, arbeitet sein Team bere
 its intensiv am Spin-off. Er gibt Einblicke, wie aus einer wissenschaftlich
 en Idee ein Unternehmen wird – und welche Chancen und Herausforderungen die
 ser Übergang mit sich bringt.\n\nEine Gründerin (wird noch bekannt gegeben)
  wird die Perspektive ergänzen und ein Beispiel dafür zeigen, wie Wissensch
 aftlerinnen ihren Weg in die Selbstständigkeit gestalten.\n\nDie Veranstalt
 ung bietet Wissenschaftlerinnen, die einen Ausstieg aus der Wissenschaft er
 wägen, an einer Gründung interessiert sind oder sich einfach allgemein info
 rmieren möchten, die Gelegenheit, direkt mit diesen beiden Vorbildern zu sp
 rechen und eigene Fragen zu stellen.\n\nVeranstalter: Akademische Personale
 ntwicklung, Universität Leipzig\n\nDiese Veranstaltung findet auf Englisch 
 statt!\n\nAnsprechpartnerin: Dr. Nicole Koburger (nicole.koburger@zv.uni-le
 ipzig.de)
LOCATION:Online
DTSTAMP:20260415T093124Z
DTSTART:20260915T120000Z
DTEND:20260915T133000Z
END:VEVENT
END:VCALENDAR
