BEGIN:VCALENDAR
VERSION:2.0
PRODID:https://github.com/derhansen/sf_event_mgt
METHOD:PUBLISH
BEGIN:VEVENT
UID:4913-113315@www.leuphana.de
CLASS: PUBLIC
SUMMARY:Modul 1 Lehre planen (3 Teile)
DESCRIPTION:Das Modul Lehre planen ist Teil des Weiterbildungsprogramms “Le
 hre am Start”.\n\nIm Modul „Lehre planen“ arbeiten die Teilnehmenden mit au
 sgewählten Planungsmodellen und üben, Lernziele vor dem Hintergrund des Con
 structive Alignment kompetenzorientiert zu formulieren. Die Teilnehmenden l
 ernen die verschiedenen Gestaltungsebenen und didaktischen Entscheidungskon
 zepte kennen und übertragen diese auf eine eigene Lehrveranstaltungsbeschre
 ibung. Dazu gehört auch, ihre Rolle als Lehrperson zu reflektieren. Das Mod
 ul widmet sich außerdem der Feinplanung von einzelnen Lerneinheiten. Ausgeh
 end von ihren Lehrzielen schauen sich die Teilnehmenden einen didaktisch si
 nnvollen Aufbau von Sitzungen an. Dazu gehört auch ein zielführender Einsat
 z von Methoden und eine bewusste Gestaltung der sozialen Interaktionen. In 
 einer Praxisphase werden die Teilnehmenden die Inhalte auf Ihre Lehre anwen
 den und erhalten Gelegenheit für Feedback und Austausch zum Thema Lehr- und
  Sitzungsplanung. \n\nDas Modul besteht aus 3 Teilen: \n\nLehre planen I - 
 Grobplanung 1. Teil am 19.06.2026 - 9.30-16 Uhr (Trafo-Raum C 25.021)Lehre 
 planen II - Grobplanung 2. Teil am 03.07.2026 - 9.30-13 Uhr (online)Lehre p
 lanen III - Feinplanung am 02.10.2026 - 9.30-13 Uhr (online)\n\nMit der Anm
 eldung melden Sie sich für diese drei Workshops an. \n\nWeitere Information
 en zum Programm finden Sie auf der Webseite des Weiterbildungsprogramms “Le
 hre am Start”.Sie können sich für einzelne Module wie auch für das gesamte 
 Programm bei lehrservice.weiterbildung@leuphana.de anmelden. 
DTSTAMP:20260415T144608Z
DTSTART:20260619T073000Z
DTEND:20261002T110000Z
END:VEVENT
END:VCALENDAR
