BEGIN:VCALENDAR
VERSION:2.0
PRODID:https://github.com/derhansen/sf_event_mgt
METHOD:PUBLISH
BEGIN:VEVENT
UID:4064-113314@www.leuphana.de
CLASS: PUBLIC
SUMMARY:New Work
DESCRIPTION:Sich als Mensch selbstorganisiert im Rahmen flacher Hierarchien
  einzubringen, um an sinnstiftenden Zielen zu arbeiten, sind Kernelemente v
 on New Work, helfen aber auch in anderen Kontexten wie zum Beispiel im Ehre
 namt oder beim eigenen Gründen. Daher bieten New Work Ansätze Impulse, Flex
 ibilität und konkrete Ideen zur Umsetzung in einer sich veränderten Welt vo
 r dem Hintergrund der digitalen Transformation.\n\nAnhand verschiedener For
 mate wie dem „spannungsbasierten Arbeiten“, der Entscheidungsfindung mittel
 s „Liberating Structures“ und dem „rollenbasierten Arbeiten“ werden Einblic
 ke gegeben, wie gutes neues Arbeiten aussehen kann. Der Workshop bietet Imp
 ulse zur Reflektion des eigenen Verhältnis zur Arbeit und zu neuen Formen d
 er Zusammenarbeit, Moderationstechniken und bietet Raum zur eigenen Reflexi
 on und kritischen Debatte, wie sich gutes Arbeiten realisieren lassen kann.
  \n\nZudem werden erste Positionen in dem Bereich vorgestellt und unterschi
 eden, die helfen sollen bei einer potentiellen Jobsuche in dem Bereich - un
 d in anderen Bereichen, um zu wissen, welche Arbeitgeber*in für einen selbs
 t passt.\n\nReferentin: Dr. Nina Wienkoop\n\n\n\n
LOCATION:Central campus
DTSTAMP:20260330T122749Z
DTSTART:20260606T070000Z
DTEND:20260606T150000Z
END:VEVENT
END:VCALENDAR
