BEGIN:VCALENDAR
VERSION:2.0
PRODID:https://github.com/derhansen/sf_event_mgt
METHOD:PUBLISH
BEGIN:VEVENT
UID:4923-113314@www.leuphana.de
CLASS: PUBLIC
SUMMARY:Quick on Your Feet: Übung spontanes Sprechen (Englisch)
DESCRIPTION:Goals:\n\nThis interactive on-your-feet workshop uses improvisa
 tion and free-speaking exercises as methods to train speakers to stay focus
 ed and structured when giving spontaneous talks and handling an audience Q&
 A. The seminar will help participants to communicate confidently in various
  semi-formal contexts in order to gain confidence in impromptu public speak
 ing with practical tips and exercises. Participants develop strategies for 
 engaging listeners and tailoring information to the audience in semi-formal
  role-play settings such as site visits, conferences, panels and social eve
 nts. Playful and practical techniques encourage presenters to step out of t
 heir comfort zone and to maintain authority and become more self-reliant wh
 en speaking extemporaneously.\n\nContent Outline:\n\nExercises are used thr
 oughout the course to ensure that participants can immediately put skills i
 nto practice. The seminar begins with verbal and non-verbal communication t
 raining, connecting breathing to thinking, in order to manage nervousness w
 hen giving an impromptu talk. This is followed by training with improvisati
 on techniques to help speakers maintain focus and composure when thinking o
 n their feet. Participants are then given free-speaking exercises in order 
 to train their quick-thinking skills, in order to stay focused, and to enga
 ge an audience in their topic. The training ends with an exploration of bes
 t practices for handling the question and answer session. Each speaker will
  have ample opportunity throughout the workshop for individual coaching and
  feedback.\n\nMethods:\n\nImprovisation“Pitch” practice to promote one’s re
 search effectivelyDeveloping effective tactics for handling the Q&ALanguage
  practice and analysisPartner work/role-playTrainer and group feedbackVoice
  and body techniques\n\nLanguage: This workshop will be held in English. Go
 od English skills are of advantage but are not a requirement.\n\nTrainer: R
 ic Oquita is a dynamic trainer, specializing in kinesthetic communication a
 nd presentation techniques, helping professionals and academics to give con
 vincing and motivating oral presentations at international conferences, mee
 tings and lectures. With a rich background in theatre, he provides techniqu
 es to strengthen and support effective speaking, corporal and vocal trainin
 g, and interpersonal communication skills.\n\nDate: Tue June 9 and Wed June
  10, 2026, 9:00 a.m. to 5:00 p.m. on both daysPlace: TU Hamburg, Am Schwarz
 enberg-Campus 2 (B), Room B 0.001\n\nRegistration: Due to a limited number 
 of participants a binding registration is necessary. Please ask your superv
 isor for permission to participate and then address your registration to ht
 tps://intranet.tuhh.de/anmeldung/speaking_practice_26_leu\n\nFor registered
  participants attendance at the entire workshop is obligatory.\n\nContact: 
 \n\nDr. Krista Schölzig (T: 040 30601-4337 | E: Krista.Schoelzig@tuhh.de)La
 ra Walkling (T: 040 30601-3752 | E: Lara.Walkling@tuhh.de)
DTSTAMP:20260416T100627Z
DTSTART:20260609T070000Z
DTEND:20260610T150000Z
END:VEVENT
END:VCALENDAR
