BEGIN:VCALENDAR
VERSION:2.0
PRODID:https://github.com/derhansen/sf_event_mgt
METHOD:PUBLISH
BEGIN:VEVENT
UID:4134-113314@www.leuphana.de
CLASS: PUBLIC
SUMMARY:Research Proposal Writing
DESCRIPTION:A well-prepared research proposal is a crucial part of most app
 lications in academia. The research proposal is your first impression. You 
 articulate your interest and argue why it matters. With your research propo
 sal you have to convince a potential supervisor of the quality of your doct
 oral project. It shows that you are able to independently plan and conduct 
 a research project within a given timeframe. Also, your research proposal d
 emonstrates how the project will contribute to your scientific community an
 d improves the state of research.\n\nThis workshop will provide a brief ori
 entation towards how a research proposal can be structured and which questi
 ons should be addressed in it.\n\nAccess via Zoom:\n\nMeeting-ID: 999 6428 
 1039\n\nKenncode: 935082
LOCATION:Online
DTSTAMP:20260120T144520Z
DTSTART:20260121T130000Z
DTEND:20260121T150000Z
END:VEVENT
END:VCALENDAR
