BEGIN:VCALENDAR
VERSION:2.0
PRODID:https://github.com/derhansen/sf_event_mgt
METHOD:PUBLISH
BEGIN:VEVENT
UID:4693-113316@www.leuphana.de
CLASS: PUBLIC
SUMMARY:Social Media, insbesondere LinkedIn
DESCRIPTION:Digitale Sichtbarkeit ist für Forscher*innen essentiell geworde
 n, um die eigene Forschung zu verbreiten, sich zu vernetzen und am fachlich
 en und gesellschaftlichen Dialog teilzuhaben. Mit einem Forscher*innenprofi
 l auf Social Media kann eine persönliche "Marke" gestaltet werden, in deren
  Kontext nicht zuletzt auch gewünschte Karriereoptionen angelegt werden kön
 nen. Zugleich birgt das Engagement auf Social Media Unsicherheiten oder sog
 ar Risiken. Mit welchem Zeitaufwand muss gerechnet werden? Wie sieht eine g
 ute Kommunikationslogik aus? Welche unerwünschten Wege können eigene Aktivi
 täten eventuell nehmen und was ist dann zu tun? Die Veranstaltung diskutier
 t im Einzelnen: \n\nWarum ist digitale Wissenschaftskommunikation für Forsc
 hende wichtig? Benefits & Bedeutung für Außenwirkung und KarriereoptionenKe
 nnenlernen der verschiedenen digitalen Kanäle (Schwerpunkt LinkedIn, kurz: 
 X, Mastodon, Bluesky, Instagram, YouTube, TikTok)Ein gutes Online-Profil (S
 chwerpunkt LinkedIn)Kommunikationsanlässe identifizieren und nutzenSocial-M
 edia-Posts: die eigene Forschung verständlich erkläreninteraktive Übungen: 
 Sichtbarkeits-Check von digital erfolgreichen Wissenschaftler*innen bei Lin
 kedIn (Gruppenarbeit in Breakout-Rooms); Schreibung eines LinkedIn-Posts un
 d Feedback durch Peers und Trainerin
LOCATION:Online
DTSTAMP:20260220T085633Z
DTSTART:20260602T070000Z
DTEND:20260602T110000Z
END:VEVENT
END:VCALENDAR
