BEGIN:VCALENDAR
VERSION:2.0
PRODID:https://github.com/derhansen/sf_event_mgt
METHOD:PUBLISH
BEGIN:VEVENT
UID:4860-113314@www.leuphana.de
CLASS: PUBLIC
SUMMARY:Umgang mit Sexueller Gewalt in der Forschung (Forschungsfeld Schule
 )
DESCRIPTION:Sexuelle Gewalt gegen Kinder und Jugendliche ist ein andauernde
 s Problem in Deutschland. Im Rahmen dieses Workshops beschäftigen wir uns g
 rundsätzlich mit dem Themenbereich und werfen einen ausführlichen Blick auf
  das Offenbarungsverhalten und die Gesprächsführung mit von sexueller Gewal
 t betroffenen Personen sowie Möglichkeiten zum Umgang mit Verdachtsfällen. 
 Im Rahmen dessen werden wir auch forschungsethische Fragestellungen diskuti
 eren.\n\nZielgruppe sind Promovierende und Postdocs, die im Forschungsfeld 
 Schule arbeiten.\n\n\n\n
LOCATION:Zentraler Campus
DTSTAMP:20260324T143803Z
DTSTART:20260512T080000Z
DTEND:20260512T150000Z
END:VEVENT
END:VCALENDAR
