BEGIN:VCALENDAR
VERSION:2.0
PRODID:https://github.com/derhansen/sf_event_mgt
METHOD:PUBLISH
BEGIN:VEVENT
UID:4765-113316@www.leuphana.de
CLASS: PUBLIC
SUMMARY:Vielfalt statt Nadelöhr: Karriere im Wissenschaftsmanagement
DESCRIPTION:Der akademische Karriereweg vom abgeschlossenen Studium über di
 e Promotion bis zur Professur ist ebenso eindrucksvoll wie eingängig. Die T
 atsache, dass weniger als 5 % aller Promovierten eine Professur erreichen, 
 legt zugleich die Frage nah, welche beruflichen Alternativen es nach Jahren
  der akademischen Qualifizie­rung gibt. Das Wissenschaftsmanagement hält za
 hlreiche, unterschiedliche Karrierewege bereit. Aufstieg, Karriere, Erfolg 
 und Zufriedenheit sind hier nicht minder möglich. Zwei Wissenschaftsmanager
 innen stellen ihre beruflichen Werdegänge und ihre Aufgaben im Wissenschaft
 smanagement vor und berichten über Umwege, Entscheidungen, Brüche, Erfahrun
 gen, Unterstützung und Ankommen. Durch Bericht und offenen Austausch soll O
 rientierung geboten werden in dem noch immer jungen Berufsfeld, damit die T
 eilnehmenden Perspektiven für den eigenen beruflichen Weg gewinnen und ihre
  berufliche Verwirklichung bewusster gestalten können.\n\nReferentinnen: Dr
 . Inga Brinkmann und Dr. Hannah Jacobmeyer
LOCATION:Zentralgebäude
DTSTAMP:20260224T122325Z
DTSTART:20260915T120000Z
DTEND:20260915T140000Z
END:VEVENT
END:VCALENDAR
