BEGIN:VCALENDAR
VERSION:2.0
PRODID:https://github.com/derhansen/sf_event_mgt
METHOD:PUBLISH
BEGIN:VEVENT
UID:4725-113315@www.leuphana.de
CLASS: PUBLIC
SUMMARY:Aus Text mit KI Lehrmaterialien erstellen
DESCRIPTION:Ob Textzusammenfassungen, Bilder und Grafiken, Lehrvideos oder 
 Podcasts – KI-Tools eröffnen neue Möglichkeiten, Lehrmaterialien effizient 
 und kreativ zu gestalten. In diesem Workshop lernen Sie, wie Sie aus Texten
  vielseitige Materialien generieren und Ihre Lehre kreativer und motivieren
 der gestalten können und wie sie Deskilling der Studierenden vermeiden und 
 Newskilling in der Lehre mit KI fördern können.\n\nWas erwartet Sie?\n\nTex
 te automatisiert zusammenfassen und analysierenAus Text Podcasts und Audiom
 aterialien erstellenLehrvideos aus Text generierenBilder und Infografiken p
 assend zu Lehrinhalten erstellenTexte für Musik und akustische Auflockerung
 en erstellenText in Präsentationen umwandelnSprachaufnahmen in Texte umwand
 eln, um sie weiter zu verwenden.\n\nTeilnehmende haben die Möglichkeit, eig
 ene Beispiele oder Fragestellungen mitzubringen, um konkrete Anwendungsfäll
 e zu bearbeiten; 30 Min. sind für Q & A oder ggf. Ausprobieren von Tools ei
 ngeplant. Es können drei AE erworben werden. \n\nVoraussetzungen: Grundsätz
 liche Kenntnisse über generative KI (z.B. durch folgende Einführungsvideos:
  Was ist KI? | Generative KI erklärt)\n\nDer Workshop findet per Zoom statt
 . Der Zugangslink wird Ihnen rechtzeitig vor dem Workshop zugesandt.
LOCATION:Online
DTSTAMP:20260415T050744Z
DTSTART:20260416T080000Z
DTEND:20260416T103000Z
END:VEVENT
END:VCALENDAR
