BEGIN:VCALENDAR
VERSION:2.0
PRODID:https://github.com/derhansen/sf_event_mgt
METHOD:PUBLISH
BEGIN:VEVENT
UID:2653-113315@www.leuphana.de
CLASS: PUBLIC
SUMMARY:Grading Rubrics and Marking Schemes: A Brief Introduction
DESCRIPTION:  At many universities and colleges, instructors use grading ru
 brics or marking schemes to assess student writing in a fair, consistent, a
 nd transparent manner. These rubrics are also often a means for instructors
  to convey their educational goals and expectations and to jump-start a con
 versation with their students on their learning. In this workshop, we will 
 discuss key features and elements of effective grading rubrics as well as o
 ptions for you to use them in your teaching. Using the grading rubric for t
 he Leuphana Semester Module Problematising Knowledge: Critical Thinking as 
 an example, we also consider the potential of grading rubrics to provide fo
 rmative feedback in different settings and at different levels. At the end 
 of the workshop, participants will be prepared to design a grading rubric (
 or to revise one they already have) that they may eventually use in one or 
 more of their courses.   
LOCATION:Zentraler Campus
DTSTAMP:20221221T074506Z
DTSTART:20230213T080000Z
DTEND:20230213T113000Z
END:VEVENT
END:VCALENDAR
