BEGIN:VCALENDAR
VERSION:2.0
PRODID:https://github.com/derhansen/sf_event_mgt
METHOD:PUBLISH
BEGIN:VEVENT
UID:4729-113315@www.leuphana.de
CLASS: PUBLIC
SUMMARY:Mediengestaltung mit KI (Bild, Audio und Video)
DESCRIPTION:Die Entwicklung von Medien, zum Beispiel für Präsentationen ode
 r eLearning-Kurse, ist ein mitunter sehr arbeitsaufwendiges Unterfangen.\n\
 nIm Rahmen dieses Workshops erkunden, prüfen und diskutieren wir deshalb ge
 meinsam die Potentiale des Einsatzes von generativer KI bei der Erstellung 
 von Medien. \n\nWir werden dabei folgende Bereiche praxisnah ausprobieren:\
 n\nGrafikbearbeitung und GrafikgenerierungSprecherstimmen und Musik generie
 renVideo Postproduction und VideogenerierungScreencasts und Präsentation mi
 t KI AvatarenInteraktion / Kommunikation über eigene Bots\n\nEs wird empfoh
 len ein eigenes Laptop mitzubringen, um das eine oder andere gleich selbst 
 auszuprobieren. Ziel der Veranstaltung ist es, neue Möglichkeiten kennenzul
 ernen und zu diskutieren.
LOCATION:Zentraler Campus
DTSTAMP:20260306T075153Z
DTSTART:20260709T073000Z
DTEND:20260709T103000Z
END:VEVENT
END:VCALENDAR
