BEGIN:VCALENDAR
VERSION:2.0
PRODID:https://github.com/derhansen/sf_event_mgt
METHOD:PUBLISH
BEGIN:VEVENT
UID:4389-113315@www.leuphana.de
CLASS: PUBLIC
SUMMARY:myPortfolio-Einführung zum Mitklicken
DESCRIPTION:Für alle, die gerade mit myPortfolio starten, bieten wir diese 
 Einführung in die Software an. Gemeinsam gehen wir alle Grundlagen durch - 
 vom Erstellen eines Portfolios über das Einreichen in eine Gruppe bis hin z
 u verschiedenen Möglichkeiten der Zusammenarbeit. Im Rahmen der Veranstaltu
 ng werden Sie Gelegenheit haben, alle Schritte selbst nachzuvollziehen und 
 live mitzuklicken. Bitte bringen Sie dafür einen eigenen Laptop (oder vergl
 eichbares Gerät) mit. Für eine bessere Planbarkeit bitten wir um eine vorhe
 rige Anmeldung – kurzfristiges  Dazustoßen ist aber auch möglich.
LOCATION:Zentraler Campus
DTSTAMP:20250903T102301Z
DTSTART:20251105T130000Z
DTEND:20251105T150000Z
END:VEVENT
END:VCALENDAR
