BEGIN:VCALENDAR
VERSION:2.0
PRODID:https://github.com/derhansen/sf_event_mgt
METHOD:PUBLISH
BEGIN:VEVENT
UID:4869-113315@www.leuphana.de
CLASS: PUBLIC
SUMMARY:Schwierige Situationen in der Lehre. Ein Rahmen für die Annäherung
DESCRIPTION:Immer wieder sehen sich Lehrende Situationen gegenüber, die im 
 ersten Moment irritieren und Fragen aufwerfen, die Emotionen anrühren oder 
 auch zu Konflikten führen können. Schwierige Situationen in der Lehre könne
 n mit der Heuristik der Themenzentrierten Interaktion, kurz TZI, analysiert
  werden. Die Basis hierfür bildet ein lernfreundliches Verständnis von Stör
 ungen wie es Ruth Cohn entwickelt hat und welches gut auf die Hochschullehr
 e übertragbar ist. Die Kenntnis von Eskalationsstufen kann zudem handlungsl
 eitend für die Interaktion und Kommunikation mit Studierenden in schwierige
 n Situationen sein.\n\nIm Anschluss an den interaktiven Online-Workshop hab
 en Sie eine erste Orientierung für Umgangsweisen mit schwierigen Situatione
 n in der Lehre. Es besteht Raum für Erfahrungsaustausch im erweiterten Krei
 s von Kolleg:innen. Empfehlungen für Vertiefungsliteratur wird bereitgestel
 lt. \n\nSollte eine vertiefende Bearbeitung individueller Herausforderungen
  gewünscht sein, wird dafür in einem dann festzulegenden Rahmen Gelegenheit
  dafür geschaffen. 
LOCATION:Online
DTSTAMP:20260407T130852Z
DTSTART:20260601T080000Z
DTEND:20260601T101500Z
END:VEVENT
END:VCALENDAR
