BEGIN:VCALENDAR
VERSION:2.0
PRODID:https://github.com/derhansen/sf_event_mgt
METHOD:PUBLISH
BEGIN:VEVENT
UID:2651-113315@www.leuphana.de
CLASS: PUBLIC
SUMMARY:Teaching and Learning in Higher Education
DESCRIPTION: The workshop aims at providing an introduction to teaching and
  learning in higher education for beginners in teaching at higher education
  institutions as well as more experienced instructors who want to refresh t
 heir knowledge and engage in exchange with colleagues. The topics will incl
 ude:  \n\n 	 basics of higher education pedagogy (constructivist and cognit
 ivist basics, student-centred teaching/shift from teaching to learning, con
 structive alignment, active learning) 	 What are great learning experiences
  made of? 	 your teaching experiences & challenges: focus on your specific 
 questions and transfer to your teaching \n\n This workshop will be very int
 eractive, we will use different methods and tools and discuss teaching appr
 oaches in the online, blended and traditional classroom. Your questions and
  interests will be at the centre – therefore you’ll be asked to answer a fe
 w questions about your learning goals in the run-up to the workshop.\n\nRef
 erentin: Katharina Günter (mehr Infos hier)  
LOCATION:Zentraler Campus
DTSTAMP:20230120T084724Z
DTSTART:20230202T080000Z
DTEND:20230202T150000Z
END:VEVENT
END:VCALENDAR
