BEGIN:VCALENDAR
VERSION:2.0
PRODID:https://github.com/derhansen/sf_event_mgt
METHOD:PUBLISH
BEGIN:VEVENT
UID:4370-113315@www.leuphana.de
CLASS: PUBLIC
SUMMARY:Willkommen in Moodle – Workshop für Lehrende (BYOD)
DESCRIPTION:Sind Sie neu an der Leuphana oder möchten jetzt zum ersten Mal 
 mit Moodle richtig durchstarten? In diesem Workshop gehen wir gemeinsam die
  ersten Schritte durch, sprechen über Ihre Ideen und Konzepte und schaffen 
 einen Raum, um einmal auszuprobieren, was alles in Moodle möglich ist. Die 
 Veranstaltung richtet sich an Personen, die bisher nur wenig oder gar nicht
  mit Moodle gearbeitet haben oder die zum ersten Mal selbst als Lehrperson 
 einen Moodle-Kurs betreuen. Nach diesem Einstieg wissen Sie…\n\n…wie Sie ei
 nen Kurs auf dem Leuphana-Moodle anlegen und konfigurieren.\n\n…wie Sie ein
 en Kurs mit Inhalt füllen und strukturieren können.\n\n…wie Sie Ihre Moodle
 -Fähigkeiten eigenständig weiterentwickeln können.\n\n…wie Sie Ihre eigenen
  Ideen in Ihrem Kurs umsetzen können.\n\nDer Workshop deckt die Grundlagen 
 der Moodle-Nutzung ab, soll aber vor allem dazu dienen, Ihnen das Handwerks
 zeug mitzugeben, um Ihre eigenen Ideen in Moodle umzusetzen. Bringen Sie al
 so gerne Fragen oder Konzepte mit, die Sie sich für Ihren Kurs wünschen! Im
  Laufe des Workshops können Sie diese eigenständig ausprobieren und mit dem
  Lehrservice-Team besprechen.\n\nBitte bringen Sie einen eigenen Laptop mit
 !\n\nWelcome to Moodle – Workshop for lecturers\n\nAre you new to Leuphana 
 or would you like to get started with Moodle for the first time? In this wo
 rkshop we will go through the first steps together, talk about your ideas a
 nd concepts and create a space to try out what is possible in Moodle. The e
 vent is aimed at people who have worked little or not at all with Moodle or
  who are teaching a Moodle course for the first time. After this introducti
 on you will know…\n\n...how to create and configure a course on Leuphana Mo
 odle.\n\n...how to fill a course with content and structure it.\n\n...how t
 o develop your Moodle skills independently.\n\n...how to realise your own i
 deas in your course.\n\nThe workshop covers the basics of using Moodle but 
 is primarily designed to give you the tools to implement your own ideas in 
 Moodle. So feel free to bring along any questions or concepts you would lik
 e to use in your course! During the workshop you can try these out independ
 ently and discuss them with the Teaching Service team.\n\nPlease bring your
  own laptop!
LOCATION:Zentraler Campus
DTSTAMP:20250911T085748Z
DTSTART:20251009T080000Z
DTEND:20251009T100000Z
END:VEVENT
END:VCALENDAR
