BEGIN:VCALENDAR
VERSION:2.0
PRODID:https://github.com/derhansen/sf_event_mgt
METHOD:PUBLISH
BEGIN:VEVENT
UID:3447-113315@www.leuphana.de
CLASS: PUBLIC
SUMMARY:Willkommen in Moodle – Workshop für Lehrende
DESCRIPTION:Sind Sie neu an der Leuphana oder möchten jetzt zum ersten Mal 
 mit Moodle richtig durchstarten? In diesem Workshop gehen wir gemeinsam die
  ersten Schritte durch, sprechen über Ihre Ideen und Konzepte und schaffen 
 einen Raum, um einmal auszuprobieren, was alles in Moodle möglich ist. Die 
 Veranstaltung richtet sich an Personen, die bisher nur wenig oder gar nicht
  mit Moodle gearbeitet haben oder die zum ersten Mal selbst als Lehrperson 
 einen Moodle-Kurs betreuen. Nach diesem Einstieg wissen Sie, wie Sie...\n\n
  	 einen Kurs auf dem Leuphana-Moodle anlegen und konfigurieren. 	 einen Ku
 rs mit Inhalt füllen und strukturieren können. 	 Ihre Moodle-Fähigkeiten ei
 genständig weiterentwickeln können. 	 Ihre eigenen Ideen in Ihrem Kurs umse
 tzen können. \n\nDer Workshop deckt die Grundlagen der Moodle-Nutzung ab, s
 oll aber vor allem dazu dienen, Ihnen das Handwerkszeug mitzugeben, um Ihre
  eigenen Ideen in Moodle umzusetzen. Bringen Sie also gerne Fragen oder Kon
 zepte mit, die Sie sich für Ihren Kurs wünschen! Im Laufe des Workshops kön
 nen Sie diese eigenständig ausprobieren und mit dem Lehrservice-Team bespre
 chen.\n\nBitte bringen Sie einen eigenen Laptop mit!
LOCATION:Zentraler Campus
DTSTAMP:20240613T133745Z
DTSTART:20240709T081500Z
DTEND:20240709T094500Z
END:VEVENT
END:VCALENDAR
