BEGIN:VCALENDAR
VERSION:2.0
PRODID:https://github.com/derhansen/sf_event_mgt
METHOD:PUBLISH
BEGIN:VEVENT
UID:4926-125871@www.leuphana.de
CLASS: PUBLIC
SUMMARY:Prepare for the Fair
DESCRIPTION:This online-workshop from the TUHH helps you make your visit to
  the career fair an effective one. You´ll discuss suggestions for preparati
 on and follow-up, and you'll receive active practice in presenting yourself
  compellingly to recruiters.\n\nLeuphana students are invited to attend the
  event and the TUHH Career Forum.\n\nOrganizer: TUHHRegistration: Please re
 gister here (external webite)
LOCATION:Online
DTSTAMP:20260417T150542Z
DTSTART:20260427T070000Z
DTEND:20260427T110000Z
END:VEVENT
END:VCALENDAR
