BEGIN:VCALENDAR
VERSION:2.0
PRODID:https://github.com/derhansen/sf_event_mgt
METHOD:PUBLISH
BEGIN:VEVENT
UID:4927-125871@www.leuphana.de
CLASS: PUBLIC
SUMMARY:Richtig vorbereitet zur Jobmesse
DESCRIPTION:Dieser Online-Workshop der TUHH hilft Ihnen dabei, Ihren Besuch
  auf einer Karrieremesse so effektiv wie möglich zu gestalten. Sie erhalten
  Tipps zur Vorbereitung und Nachbereitung und üben aktiv, wie Sie sich gege
 nüber Personalverantwortlichen überzeugend präsentieren können. Zudem könne
 n Sie einen Überblick über den Arbeitsmarkt gewinnen und den eigenen Marktw
 ert testen. Doch davor müssen Sie auf die richtige Vorbereitung setzen. Wer
  sich gut vorbereitet, kann gezielter vorgehen und hat mehr „Messe-Erfolg“.
 \n\nStudierende der Leuphana sind herzlich eingeladen, an der Veranstaltung
  und am TUHH Career Forum teilzunehmen.\n\nVeranstalter: TUHH\n\nAnmeldung:
  Bitte melden Sie sich hier an (externe Website).
LOCATION:Online
DTSTAMP:20260417T151418Z
DTSTART:20260428T070000Z
DTEND:20260428T110000Z
END:VEVENT
END:VCALENDAR
