BEGIN:VCALENDAR
VERSION:2.0
PRODID:https://github.com/derhansen/sf_event_mgt
METHOD:PUBLISH
BEGIN:VEVENT
UID:4925-125871@www.leuphana.de
CLASS: PUBLIC
SUMMARY:TUHH Career Forum
DESCRIPTION:Das Career Forum der TU Hamburg bietet Studierenden die Möglich
 keit wertvolle Kontakte mit Arbeitgebern zu knüpfen. Informieren Sie sich z
 . B. über Einstiegsmöglichkeiten, Traineeprogramme sowie Praktika und Neben
 jobs!Weitere Informationen und Anmeldung\n\nVeranstalter: Technische Univer
 sität HamburgOrt: Am Schwarzenberg-Campus 1 (A), Hamburg
DTSTAMP:20260417T144339Z
DTSTART:20260506T090000Z
DTEND:20260506T150000Z
END:VEVENT
END:VCALENDAR
