BEGIN:VCALENDAR
VERSION:2.0
PRODID:https://github.com/derhansen/sf_event_mgt
METHOD:PUBLISH
BEGIN:VEVENT
UID:4848-125871@www.leuphana.de
CLASS: PUBLIC
SUMMARY:Überzeugend bewerben für den nächsten Job
DESCRIPTION:[VORTRAG] In dieser Veranstaltung erhalten Sie hilfreiche Tipps
  und Empfehlungen zur Gestaltung Ihrer schriftlichen Bewerbung für Praktika
 , studentische Jobs oder den Berufseinstieg. Dabei lernen Sie die Perspekti
 ve des Arbeitgebers einzunehmen und Ihre Bewerbung zielgerichtet und aussag
 ekräftig zu gestalten.\n\nInhalte:\n\n- Der Lebenslauf als zentrales Elemen
 t der Bewerbung- Aufbau und Formulierung eines Anschreibens- KI im Bewerbun
 gsprozess- Design und GestaltungKOSTEN keine\n\nDie Zugangsdaten für Zoom e
 rhalten Sie kurz vor dem Event.
LOCATION:Online
DTSTAMP:20260323T145332Z
DTSTART:20260714T081500Z
DTEND:20260714T094500Z
END:VEVENT
END:VCALENDAR
