BEGIN:VCALENDAR
VERSION:2.0
PRODID:https://github.com/derhansen/sf_event_mgt
METHOD:PUBLISH
BEGIN:VEVENT
UID:4774-125871@www.leuphana.de
CLASS: PUBLIC
SUMMARY:Written Applications for Internships and Jobs
DESCRIPTION:[LECTURE] At this event, you will learn more about the most imp
 ortant criteria for successful applications. Regardless of whether you are 
 applying for the position as an intern, a research assistant, a trainee, or
  an employee, your written application is the first crucial step. The key d
 ocuments included in your application are the cover letter and your CV. We 
 will discuss both genres and strategies for writing successful applications
 . We will also address differences between applications in German and Engli
 sh (and, for example, between applications in the US and UK).ORGANIZER Writ
 ing Center and Career ServiceFEE none\n\nYou will receive the access data f
 or Zoom shortly before the event. \n\nThe event will take place in English.
LOCATION:Online
DTSTAMP:20260325T131029Z
DTSTART:20260611T121500Z
DTEND:20260611T134500Z
END:VEVENT
END:VCALENDAR
