BEGIN:VCALENDAR
VERSION:2.0
PRODID:https://github.com/derhansen/sf_event_mgt
METHOD:PUBLISH
BEGIN:VEVENT
UID:4825-122180@www.leuphana.de
CLASS: PUBLIC
SUMMARY:Jäger*innen der verlorenen Schätze: Graue Literatur finden und ziti
 eren
DESCRIPTION:Graue Literatur hört sich ähnlich wie Dunkle Energie oder Schwa
 rze Löcher ein wenig unheimlich an. Aber anders als bei der Dunklen Energie
  oder den Schwarzen Löchern braucht man keine Kenntnisse in Astrophysik ode
 r Kosmologie um graue Literatur in der eigenen wissenschaftlichen Arbeit zu
  nutzen.\n\nIn diesem Kurs geht es darum, was graue Literatur ist, wie man 
 sie erkennt, was beim Zitieren zu beachten ist und wo man sie finden kann. 
 Das mag manchmal nicht so einfach und systematisch wie bei der traditionell
  veröffentlichten Literatur sein, aber es gibt einige Tipps und Tricks die 
 weiterhelfen. Und es ist leichter zu erfassen als die Relativitätstheorie, 
 versprochen!\n\nDiese Veranstaltung richtet sich besonders an Studierende, 
 die bereits Erfahrung mit der Literaturrecherche haben, aber bisher noch ke
 inen oder wenig Kontakt mit Grauer Literatur. Alle Interessierten sind herz
 lich eingeladen. Bitte melde Dich für die Veranstaltung an. 
DTSTAMP:20260402T132738Z
DTSTART:20260519T111500Z
DTEND:20260519T120000Z
END:VEVENT
END:VCALENDAR
