BEGIN:VCALENDAR
VERSION:2.0
PRODID:https://github.com/derhansen/sf_event_mgt
METHOD:PUBLISH
BEGIN:VEVENT
UID:4722-122180@www.leuphana.de
CLASS: PUBLIC
SUMMARY:LUX – Paper und Aufsätze finden (Zoom)
DESCRIPTION:Paper und Aufsätze sind ein wichtiger Teil der wissenschaftlich
 en Literatur. Da sie in der Regel nicht wie Bücher als selbständige Werke v
 eröffentlicht werden, sondern in Zeitschriften, Sammelwerken oder Tagungsbä
 nden erscheinen, ist es manchmal nicht so einfach, sie zu finden. In dieser
  Schulung soll gezeigt werden, worauf bei der Suche nach Aufsätzen mit LUX 
 zu achten ist.\n\nEs geht dabei um diese Themen:\n\nAufsätze über Titel & N
 ame zu findenAufsätze zu finden, für die es keinen eigenen Eintrag gibtZuga
 ng zu gedruckten, lizenzierten und frei (OA) zugänglichen AufsätzenPreprint
 , Postprint, Verlagsversion - was sind die Unterschiede?\n\nDiese Veranstal
 tung richtet sich an Personen, die entweder bereits Erfahrung mit LUX (oder
  ähnlichen Suchinstrumenten) haben oder eine Einführung in LUX besucht habe
 n.\n\nAlle Interessierten sind herzlich eingeladen. Bitte melden Sie sich f
 ür die Veranstaltung an. Die Einwahldaten folgen kurz vor dem Termin.
DTSTAMP:20260213T104837Z
DTSTART:20260427T130000Z
DTEND:20260427T134500Z
END:VEVENT
END:VCALENDAR
