BEGIN:VCALENDAR
VERSION:2.0
PRODID:https://github.com/derhansen/sf_event_mgt
METHOD:PUBLISH
BEGIN:VEVENT
UID:4652-122180@www.leuphana.de
CLASS: PUBLIC
SUMMARY:Making Impressive 3D Renders With Basic Shapes: Blender Beginner Wo
 rkshop
DESCRIPTION:Have you ever wondered how characters, environments and animati
 ons are made in 3D? In this beginner workshop we explore the basic toolset 
 of Blender, free and open-source 3D editor. \n\nYou will learn the basic to
 ols to shape your ideas, such as creating various 3D shapes, basic material
 s, lighting, posing. In the end you will have the image of your 3D scene! \
 n\nIt would be good if you could bring a laptop and install the software in
  advance, however Blender is relatively lightweight and you can download it
  on the spot. Download Blender 5.0 : [https://www.blender.org/download/](ht
 tps://www.blender.org/download/)
DTSTAMP:20260309T080013Z
DTSTART:20260420T140000Z
DTEND:20260420T160000Z
END:VEVENT
END:VCALENDAR
