BEGIN:VCALENDAR
VERSION:2.0
PRODID:https://github.com/derhansen/sf_event_mgt
METHOD:PUBLISH
BEGIN:VEVENT
UID:4834-122180@www.leuphana.de
CLASS: PUBLIC
SUMMARY:Microsoft OneNote & Lists
DESCRIPTION:In diesem Seminar lernst Du, OneNote-Notizbücher, Abschnitte un
 d Seiten zu erstellen, zu gliedern und mit Teams sowie Outlook zu integrier
 en. Du lernst OneNote-Seiten zu gestalten, Vorlagen zu erstellen und Inform
 ationen farbig kenntlich zu machen. Du lernst Listen in OneNote zu erstelle
 n, Ansichten anzupassen, zu teilen und ältere Versionen wiederherzustellen.
 \n\nInhalt\n\nOneNoteNotizbuch, Abschnitte, Seiten erstellen, gliedern und 
 verwaltenGestaltung einer SeiteErstellung einer VorlageInformationen kenntl
 ich machenIntegration mit Teams und OutlookListsListen erstellen, importier
 en, exportieren und verwaltenListenansicht einstellen, Listen filtern und s
 ortierenListen teilen und Zugriffe verwaltenÄltere Versionen zurückholenInt
 egration mit Teams\n\nFür dieses Seminar benötigst Du die OneNote-App und d
 ie Teams-App auf Deinem Computer. Bitte stell sicher, dass Teams auf Dein M
 ikrofon, Deine Kamera und Deine Bildschirmfreigabe zugreifen darf (siehe Sy
 stemeinstellungen). Melde Dich mit Deinem Leuphana-Account in OneNote und T
 eams an, damit alles reibungslos funktioniert. \n\nBitte melde Dich für die
  Veranstaltung an! Den Link für die Teilnahme erhältst Du eine halbe Stunde
  vor der Veranstaltung per E-Mail!\n\nWir freuen uns auf Dich!\n\nBei Frage
 n wende Sich bitte an connect@leuphana.de.
DTSTAMP:20260424T065210Z
DTSTART:20260522T063000Z
DTEND:20260522T080000Z
END:VEVENT
END:VCALENDAR
