BEGIN:VCALENDAR
VERSION:2.0
PRODID:https://github.com/derhansen/sf_event_mgt
METHOD:PUBLISH
BEGIN:VEVENT
UID:4828-122180@www.leuphana.de
CLASS: PUBLIC
SUMMARY:Microsoft Outlook für macOS: E-Mail und Kontakte
DESCRIPTION:In diesem Seminar lernst Du mit dem Mac E-Mails zu erstellen, z
 u verwalten, automatisch zu beantworten und mit Regeln sowie Vorlagen zu au
 tomatisieren. Du lernst dein Postfach aufzuräumen, E-Mails zu kategorisiere
 n, zu priorisieren und Kontakte sowie Gruppen zu pflegen. Du lernst OneNote
  und ToDo in Outlook einzubinden sowie SharePoint für erweiterte Zusammenar
 beit zu nutzen.\n\nInhalt\n\nE-MailE-Mails erstellen, senden, empfangen und
  verwaltenAutomatische Antworten einstellen und verwaltenPostfach aufräumen
  / E-Mails kategorisieren, priorisieren und anheftenRegeln für Automatisier
 ungen und einstellen und verwaltenVorlagen erstellen und nutzenKontakte / A
 dressbücher verwaltenKontakte anlegen und verwaltenGruppen anlegen und verw
 altenSharePointWeitere Tools in Outlook einbindenOneNoteToDo\n\nFür dieses 
 Seminar benötigst Du die Outlook-App und die Teams-App auf Deinem Mac. Bitt
 e stell sicher, dass Teams auf Dein Mikrofon, Deine Kamera und Deine Bildsc
 hirmfreigabe zugreifen darf (siehe Systemeinstellungen). Melde Dich mit Dei
 nem Leuphana-Account in Outlook und Teams an, damit alles reibungslos funkt
 ioniert. \n\nBitte melde Dich für die Veranstaltung an! Den Link für die Te
 ilnahme erhältst Du eine halbe Stunde vor der Veranstaltung per E-Mail!\n\n
 Wir freuen uns auf Dich!\n\nBei Fragen wende Sich bitte an connect@leuphana
 .de. 
DTSTAMP:20260424T065133Z
DTSTART:20260513T063000Z
DTEND:20260513T080000Z
END:VEVENT
END:VCALENDAR
