BEGIN:VCALENDAR
VERSION:2.0
PRODID:https://github.com/derhansen/sf_event_mgt
METHOD:PUBLISH
BEGIN:VEVENT
UID:4829-122180@www.leuphana.de
CLASS: PUBLIC
SUMMARY:Microsoft Outlook für macOS: E-Mail und Kontakte
DESCRIPTION:In diesem Seminar lernst Du mit dem Mac E-Mails zu erstellen, z
 u verwalten, automatisch zu beantworten und mit Regeln sowie Vorlagen zu au
 tomatisieren. Du lernst dein Postfach aufzuräumen, E-Mails zu kategorisiere
 n, zu priorisieren und Kontakte sowie Gruppen zu pflegen. Du lernst OneNote
  und ToDo in Outlook einzubinden sowie SharePoint für erweiterte Zusammenar
 beit zu nutzen.\n\nInhalt\n\nE-MailE-Mails erstellen, senden, empfangen und
  verwaltenAutomatische Antworten einstellen und verwaltenPostfach aufräumen
  / E-Mails kategorisie-ren, priorisieren und anheftenRegeln für Automatisie
 rungen und einstellen und verwaltenVorlagen erstellen und nutzenKontakte / 
 Adressbücher verwaltenKontakte anlegen und verwaltenGruppen anlegen und ver
 waltenSharePointWeitere Tools in Outlook einbindenOneNoteToDo\n\nFür dieses
  Seminar benötigst Du die Outlook-App und die Teams-App auf Deinem Mac. Bit
 te stell sicher, dass Teams auf Dein Mikrofon, Deine Kamera und Deine Bilds
 chirmfreigabe zugreifen darf (siehe Systemeinstellungen). Melde Dich mit De
 inem Leuphana-Account in Outlook und Teams an, damit alles reibungslos funk
 tioniert. \n\nBitte melde Dich für die Veranstaltung an! Den Link für die T
 eilnahme erhältst Du eine halbe Stunde vor der Veranstaltung per E-Mail!\n\
 nWir freuen uns auf Dich!\n\nBei Fragen wende Sich bitte an connect@leuphan
 a.de.
DTSTAMP:20260424T065356Z
DTSTART:20261016T063000Z
DTEND:20261016T080000Z
END:VEVENT
END:VCALENDAR
