BEGIN:VCALENDAR
VERSION:2.0
PRODID:https://github.com/derhansen/sf_event_mgt
METHOD:PUBLISH
BEGIN:VEVENT
UID:4833-122180@www.leuphana.de
CLASS: PUBLIC
SUMMARY:Microsoft Outlook für macOS: Kalender, ToDos und Integrationen
DESCRIPTION:In diesem Seminar lernst du mit dem Mac Termine und Besprechung
 en zu planen, Teams-Meetings zu erstellen und den Planungsassistenten zu nu
 tzen. Du lernst Kalenderansichten einzustellen, Serientermine zu verwalten 
 und Agenden mit Gesprächsprotokollen zu verknüpfen. Du lernst Outlook-Kalen
 der in Teams zu integrieren, Aufgaben zu planen und Live-Hacks wie OneNote-
 Notizen anzuwenden.\n\nInhalt\n\nTermine planenKalenderdarstellung / Verfüg
 barkeiten grundsätzlich einstellenBesprechungen planen und verwaltenTeams-O
 nline-Besprechungen erstellenTerminplanungsasssistent nutzenSerientermine e
 rstellen und verwaltenAutomatische Wiedervorlagedaten anzeigen lassenAgenda
  integrieren und ggfs. bisherige Gesprächsprotokolle verlinkenIntegration z
 u TeamsOutlook-Kalender auch in Teams nutzenAufgaben planenOutlook-Aufgaben
  vs. PlannerLivehacksBesprechungsnotizen in OneNote überführen\n\nFür diese
 s Seminar benötigst Du die Outlook-App und die Teams-App auf Deinem Mac. Bi
 tte stell sicher, dass Teams auf Dein Mikrofon, Deine Kamera und Deine Bild
 schirmfreigabe zugreifen darf (siehe Systemeinstellungen). Melde Dich mit D
 einem Leuphana-Account in Outlook und Teams an, damit alles reibungslos fun
 ktioniert. \n\nBitte melde Dich für die Veranstaltung an! Den Link für die 
 Teilnahme erhältst Du eine halbe Stunde vor der Veranstaltung per E-Mail!\n
 \nWir freuen uns auf Dich!\n\nBei Fragen wende Sich bitte an connect@leupha
 na.de.
DTSTAMP:20260424T065445Z
DTSTART:20261120T073000Z
DTEND:20261120T090000Z
END:VEVENT
END:VCALENDAR
