BEGIN:VCALENDAR
VERSION:2.0
PRODID:https://github.com/derhansen/sf_event_mgt
METHOD:PUBLISH
BEGIN:VEVENT
UID:4827-122180@www.leuphana.de
CLASS: PUBLIC
SUMMARY:Microsoft Outlook für Windows: E-Mail und Kontakte
DESCRIPTION:In diesem Seminar lernst Du E-Mails zu erstellen, zu verwalten,
  automatisch zu beantworten und mit Regeln sowie Vorlagen zu automatisieren
 . Du lernst dein Postfach aufzuräumen, E-Mails zu kategorisieren, zu priori
 sieren und Kontakte sowie Gruppen zu pflegen. Du lernst OneNote und ToDo in
  Outlook einzubinden sowie SharePoint für erweiterte Zusammenarbeit zu nutz
 en.\n\nInhalt:\n\nE-MailE-Mails erstellen, senden, empfangen und verwaltenA
 utomatische Antworten einstellen und verwaltenPostfach aufräumen / E-Mails 
 kategorisieren, priorisieren und anheftenRegeln für Automatisierungen und e
 instellen und verwaltenVorlagen erstellen und nutzenKontakte / Adressbücher
  verwaltenKontakte anlegen und verwaltenGruppen anlegen und verwaltenShareP
 ointWeitere Tools in Outlook einbindenOneNoteToDo\n\nFür dieses Seminar ben
 ötigst Du Outlook Classic und die Teams-App auf Deinem Computer. Bitte stel
 l sicher, dass Teams auf Dein Mikrofon, Deine Kamera und Deine Bildschirmfr
 eigabe zugreifen darf (siehe Systemeinstellungen). Melde Dich mit Deinem Le
 uphana-Account in Outlook und Teams an, damit alles reibungslos funktionier
 t. \n\nBitte melde Dich für die Veranstaltung an! Den Link für die Teilnahm
 e erhältst Du eine halbe Stunde vor der Veranstaltung per E-Mail!\n\nWir fr
 euen uns auf Dich!\n\nBei Fragen wende Sich bitte an connect@leuphana.de.
DTSTAMP:20260424T065342Z
DTSTART:20260925T063000Z
DTEND:20260925T080000Z
END:VEVENT
END:VCALENDAR
