BEGIN:VCALENDAR
VERSION:2.0
PRODID:https://github.com/derhansen/sf_event_mgt
METHOD:PUBLISH
BEGIN:VEVENT
UID:4830-122180@www.leuphana.de
CLASS: PUBLIC
SUMMARY:Microsoft Outlook für Windows: Kalender, ToDos und Integrationen
DESCRIPTION:In diesem Seminar lernst du Termine und Besprechungen zu planen
 , Teams-Meetings zu erstellen und den Planungsassistenten zu nutzen. Du ler
 nst Kalenderansichten einzustellen, Serientermine zu verwalten und Agenden 
 mit Gesprächsprotokollen zu verknüpfen. Du lernst Outlook-Kalender in Teams
  zu integrieren, Aufgaben zu planen und Live-Hacks wie OneNote-Notizen anzu
 wenden.\n\nInhalt\n\nTermine planenKalenderdarstellung / Verfügbarkeiten gr
 undsätzlich einstellenBesprechungen planen und verwaltenTeams-Online-Bespre
 chungen erstellenTerminplanungsasssistent nutzenSerientermine erstellen und
  verwaltenAutomatische Wiedervorlagedaten anzeigen lassenAgenda integrieren
  und ggfs. bisherige Gesprächsprotokolle verlinkenIntegration zu TeamsOutlo
 ok-Kalender auch in Teams nutzenAufgaben planenOutlook-Aufgaben vs. Planner
 LivehacksBesprechungsnotizen in OneNote überführen\n\nFür dieses Seminar be
 nötigst Du Outlook Classic und die Teams-App auf Deinem Computer. Bitte ste
 ll sicher, dass Teams auf Dein Mikrofon, Deine Kamera und Deine Bildschirmf
 reigabe zugreifen darf (siehe Systemeinstellungen). Melde Dich mit Deinem L
 euphana-Account in Outlook und Teams an, damit alles reibungslos funktionie
 rt. \n\nBitte melde Dich für die Veranstaltung an! Den Link für die Teilnah
 me erhältst Du eine halbe Stunde vor der Veranstaltung per E-Mail!\n\nWir f
 reuen uns auf Dich!\n\nBei Fragen wende Sich bitte an connect@leuphana.de.
DTSTAMP:20260424T065255Z
DTSTART:20260819T123000Z
DTEND:20260819T140000Z
END:VEVENT
END:VCALENDAR
