BEGIN:VCALENDAR
VERSION:2.0
PRODID:https://github.com/derhansen/sf_event_mgt
METHOD:PUBLISH
BEGIN:VEVENT
UID:4838-122180@www.leuphana.de
CLASS: PUBLIC
SUMMARY:Microsoft Planner und ToDo
DESCRIPTION:In diesem Seminar lernst Du Planner-Projektpläne mit Buckets zu
  erstellen, zu teilen und in Teams zu integrieren. Du lernst Aufgaben zuzuw
 eisen, zu priorisieren, Ansichten anzupassen und Zugriffe zu verwalten. Du 
 lernst Aufgaben zu erstellen, zu kategorisieren und erhältst nützliche Tipp
 s und Kniffe.\n\nInhalt\n\nPlannerProjektpläne mit Buckets erstellen, verwa
 lten und mit anderen teilenAufgaben an Personen und Gruppen zuweisen, prior
 isieren, terminieren und kategorisierenAnsichten, Designs und Benachrichtig
 ungen einstellenProjekte teilenZugriffe vewaltenIntegration in TeamsTasks e
 rstellen und verwaltenMein Tag, Wichtig, GeplantGekennzeichnete E-MailVergl
 eich Planner und ToDoIntegration mit Teams\n\nFür dieses Seminar benötigst 
 Du die Outlook-App und die Teams-App auf Deinem Computer. Bitte stell siche
 r, dass Teams auf Dein Mikrofon, Deine Kamera und Deine Bildschirmfreigabe 
 zugreifen darf (siehe Systemeinstellungen). Melde Dich mit Deinem Leuphana-
 Account in Outlook und Teams an, damit alles reibungslos funktioniert. \n\n
 Bitte melde Dich für die Veranstaltung an! Den Link für die Teilnahme erhäl
 tst Du eine halbe Stunde vor der Veranstaltung per E-Mail!\n\nWir freuen un
 s auf Dich!\n\nBei Fragen wende Sich bitte an connect@leuphana.de.
DTSTAMP:20260424T065221Z
DTSTART:20260612T063000Z
DTEND:20260612T080000Z
END:VEVENT
END:VCALENDAR
