BEGIN:VCALENDAR
VERSION:2.0
PRODID:https://github.com/derhansen/sf_event_mgt
METHOD:PUBLISH
BEGIN:VEVENT
UID:4844-122180@www.leuphana.de
CLASS: PUBLIC
SUMMARY:Microsoft Teams: Chat und Besprechungen
DESCRIPTION:In diesem Seminar lernst du, wie du Teams optimal für deinen Ar
 beitsalltag nutzt. Schwerpunkt ist die Kommunikation mit der Durchführung v
 on Chats und Besprechungen. Nach dem Seminar kannst du Teams sicher bediene
 n, typische Stolperfallen vermeiden und weißt, wie du strukturierter und ze
 itsparender im Team arbeitest.\n\nInhalt:\n\nKurzübersicht über Teams - Gru
 ndeinstellungenOberfläche, Symbole, FunktionenBenachrichtigungen, Präsenz- 
 und StatusinformationenPrioritätszugriffChatChat mit einer oder mehreren Pe
 rsonen@mention verwendenWichtige oder dringende NachrichtenKontaktliste pfl
 egenTelefonie - BesprechungenMit Teams telefonierenTeilnehmerkreis während 
 des Chats - Telefonats erweiternBildschirm freigebenDokumente teilenOnline-
 BesprechungenSpontane und geplante BesprechungenGleichzeitig an mehreren Be
 sprechungen teilnehmenLiveereignisseRäume erstellen\n\nFür dieses Seminar b
 enötigst Du die Teams-App auf Deinem Computer. Bitte stell sicher, dass Tea
 ms auf Dein Mikrofon, Deine Kamera und Deine Bildschirmfreigabe zugreifen d
 arf (siehe Systemeinstellungen). Melde Dich mit Deinem Leuphana-Account in 
 Teams an, damit alles reibungslos funktioniert. \n\nBitte melde Dich für di
 e Veranstaltung an! Den Link für die Teilnahme erhältst Du eine halbe Stund
 e vor der Veranstaltung per E-Mail!\n\nWir freuen uns auf Dich!\n\nBei Frag
 en wende Sich bitte an connect@leuphana.de.
DTSTAMP:20260424T065509Z
DTSTART:20261218T073000Z
DTEND:20261218T090000Z
END:VEVENT
END:VCALENDAR
