BEGIN:VCALENDAR
VERSION:2.0
PRODID:https://github.com/derhansen/sf_event_mgt
METHOD:PUBLISH
BEGIN:VEVENT
UID:4843-122180@www.leuphana.de
CLASS: PUBLIC
SUMMARY:Microsoft Teams: Kanäle und Dateien
DESCRIPTION:In diesem Seminar lernst du Kanäle und Tags zu nutzen, um die T
 eamarbeit strukturiert zu organisieren. Du lernst Kanaltypen anzuwenden, ne
 ue Kanäle anzulegen, mit mehreren zu arbeiten und Tags als Ergänzung einzus
 etzen. Du lernst OneNote und SharePoint in Teams zu integrieren, Dateien ge
 meinsam zu verwalten, Zugriffe zu steuern und Versionsverläufe zu nutzen.\n
 \nInhalt:\n\nKanäle und TagsKanaltypen und EinsatzszenarienNeuen Kanal anle
 gen und mit mehreren Kanälen arbeitenKanäle im Teamraum verwaltenTags als E
 rgänzung einsetzenWeitere Tools in Teams integrierenOneNoteSharePointShareP
 ointDateien in Bibliotheken gemeinsam verwalten und alte Dateien wiederhers
 tellenZugriffe verwaltenDateien teilenGemeinsam in Dateien arbeitenVersions
 verlaufOneDrive vs. SharePoint\n\nFür dieses Seminar benötigst Du die Teams
 -App auf Deinem Computer. Bitte stell sicher, dass Teams auf Dein Mikrofon,
  Deine Kamera und Deine Bildschirmfreigabe zugreifen darf (siehe Systemeins
 tellungen). Melde Dich mit Deinem Leuphana-Account in Teams an, damit alles
  reibungslos funktioniert. \n\nBitte melde Dich für die Veranstaltung an! D
 en Link für die Teilnahme erhältst Du eine halbe Stunde vor der Veranstaltu
 ng per E-Mail!\n\nWir freuen uns auf Dich!\n\nBei Fragen wende Sich bitte a
 n connect@leuphana.de.
DTSTAMP:20260424T065429Z
DTSTART:20261106T073000Z
DTEND:20261106T090000Z
END:VEVENT
END:VCALENDAR
